BEGIN:VCALENDAR
VERSION:2.0
PRODID:-//hof-programm - das Veranstaltungsportal für Hochfranken - ECPv4.8.2//NONSGML v1.0//EN
CALSCALE:GREGORIAN
METHOD:PUBLISH
X-WR-CALNAME:hof-programm - das Veranstaltungsportal für Hochfranken
X-ORIGINAL-URL:https://hof-programm.de
X-WR-CALDESC:Veranstaltungen im hof-programm - das Veranstaltungsportal für Hochfranken
BEGIN:VEVENT
DTSTART;TZID=Europe/Berlin:20230907T140000
DTEND;TZID=Europe/Berlin:20230907T140000
DTSTAMP:20260424T095711
CREATED:20230825T204538Z
LAST-MODIFIED:20230825T204538Z
UID:39313-1694095200-1694095200@hof-programm.de
SUMMARY:Festival Mediaval\, Mittelalter-Event
DESCRIPTION:
URL:https://hof-programm.de/veranstaltung/festival-mediaval-mittelalter-event-16/
LOCATION:Goldberg\, Wunsiedler Straße 23\, Selb\, Bayern\, 95100\, Deutschland
GEO:50.165772;12.1280143
X-APPLE-STRUCTURED-LOCATION;VALUE=URI;X-ADDRESS=Goldberg Wunsiedler Straße 23 Selb Bayern 95100 Deutschland;X-APPLE-RADIUS=500;X-TITLE=Wunsiedler Straße 23:geo:12.1280143,50.165772
CATEGORIES:Freizeit
END:VEVENT
END:VCALENDAR