BEGIN:VCALENDAR
VERSION:2.0
PRODID:-//hof-programm - das Veranstaltungsportal für Hochfranken - ECPv4.8.2//NONSGML v1.0//EN
CALSCALE:GREGORIAN
METHOD:PUBLISH
X-WR-CALNAME:hof-programm - das Veranstaltungsportal für Hochfranken
X-ORIGINAL-URL:https://hof-programm.de
X-WR-CALDESC:Veranstaltungen im hof-programm - das Veranstaltungsportal für Hochfranken
BEGIN:VEVENT
DTSTART;TZID=Europe/Berlin:20231103T100000
DTEND;TZID=Europe/Berlin:20231103T100000
DTSTAMP:20260422T144946
CREATED:20231026T135824Z
LAST-MODIFIED:20231026T135824Z
UID:40062-1699005600-1699005600@hof-programm.de
SUMMARY:Feuer\, Entdecker unterwegs
DESCRIPTION:
URL:https://hof-programm.de/veranstaltung/feuer-entdecker-unterwegs/
LOCATION:Museum Bayerisches Vogtland\, Sigmundsgraben 6\, Hof\, Bayern\, 95028\, Deutschland
GEO:50.3238465;11.9184668
X-APPLE-STRUCTURED-LOCATION;VALUE=URI;X-ADDRESS=Museum Bayerisches Vogtland Sigmundsgraben 6 Hof Bayern 95028 Deutschland;X-APPLE-RADIUS=500;X-TITLE=Sigmundsgraben 6:geo:11.9184668,50.3238465
CATEGORIES:Freizeit
END:VEVENT
END:VCALENDAR