BEGIN:VCALENDAR
VERSION:2.0
PRODID:-//hof-programm - das Veranstaltungsportal für Hochfranken - ECPv4.8.2//NONSGML v1.0//EN
CALSCALE:GREGORIAN
METHOD:PUBLISH
X-WR-CALNAME:hof-programm - das Veranstaltungsportal für Hochfranken
X-ORIGINAL-URL:https://hof-programm.de
X-WR-CALDESC:Veranstaltungen im hof-programm - das Veranstaltungsportal für Hochfranken
BEGIN:VEVENT
DTSTART;TZID=Europe/Berlin:20220811T190000
DTEND;TZID=Europe/Berlin:20220811T190000
DTSTAMP:20260421T152000
CREATED:20220628T110443Z
LAST-MODIFIED:20220726T185452Z
UID:31852-1660244400-1660244400@hof-programm.de
SUMMARY:Hannes Wölfel\, Konzert
DESCRIPTION:
URL:https://hof-programm.de/veranstaltung/hannes-woelfel-konzert-4/
LOCATION:Konzertscheune\, Bahnhofstraße 1\, Gefrees\, Bayern\, 95482\, Deutschland
GEO:50.09421;11.7311736
X-APPLE-STRUCTURED-LOCATION;VALUE=URI;X-ADDRESS=Konzertscheune Bahnhofstraße 1 Gefrees Bayern 95482 Deutschland;X-APPLE-RADIUS=500;X-TITLE=Bahnhofstraße 1:geo:11.7311736,50.09421
CATEGORIES:Konzert
END:VEVENT
END:VCALENDAR