BEGIN:VCALENDAR
VERSION:2.0
PRODID:-//hof-programm - das Veranstaltungsportal für Hochfranken - ECPv4.8.2//NONSGML v1.0//EN
CALSCALE:GREGORIAN
METHOD:PUBLISH
X-WR-CALNAME:hof-programm - das Veranstaltungsportal für Hochfranken
X-ORIGINAL-URL:https://hof-programm.de
X-WR-CALDESC:Veranstaltungen im hof-programm - das Veranstaltungsportal für Hochfranken
BEGIN:VEVENT
DTSTART;TZID=Europe/Berlin:20231201T100000
DTEND;TZID=Europe/Berlin:20231201T100000
DTSTAMP:20260425T000133
CREATED:20231026T141335Z
LAST-MODIFIED:20231128T124043Z
UID:40339-1701424800-1701424800@hof-programm.de
SUMMARY:Weihnachtsmarkt
DESCRIPTION:
URL:https://hof-programm.de/veranstaltung/weihnachtsmarkt-297/
LOCATION:Altstadt\, Altstadt\, Hof\, Bayern\, 95028\, Deutschland
GEO:50.3177892;11.9154852
X-APPLE-STRUCTURED-LOCATION;VALUE=URI;X-ADDRESS=Altstadt Altstadt Hof Bayern 95028 Deutschland;X-APPLE-RADIUS=500;X-TITLE=Altstadt:geo:11.9154852,50.3177892
CATEGORIES:Freizeit
END:VEVENT
END:VCALENDAR