BEGIN:VCALENDAR
VERSION:2.0
PRODID:-//hof-programm - das Veranstaltungsportal für Hochfranken - ECPv4.8.2//NONSGML v1.0//EN
CALSCALE:GREGORIAN
METHOD:PUBLISH
X-WR-CALNAME:hof-programm - das Veranstaltungsportal für Hochfranken
X-ORIGINAL-URL:https://hof-programm.de
X-WR-CALDESC:Veranstaltungen im hof-programm - das Veranstaltungsportal für Hochfranken
BEGIN:VEVENT
DTSTART;TZID=Europe/Berlin:20230603T183000
DTEND;TZID=Europe/Berlin:20230603T183000
DTSTAMP:20260421T151603
CREATED:20230525T064527Z
LAST-MODIFIED:20230525T065936Z
UID:37168-1685817000-1685817000@hof-programm.de
SUMMARY:Wurlitzer Kärwa
DESCRIPTION:
URL:https://hof-programm.de/veranstaltung/wurlitzer-kaerwa-3/
LOCATION:Festplatz\, Wurlitz\, Rehau\, Bayern\, 95111\, Deutschland
CATEGORIES:Freizeit
END:VEVENT
END:VCALENDAR