BEGIN:VCALENDAR
VERSION:2.0
PRODID:-//hof-programm - das Veranstaltungsportal für Hochfranken - ECPv4.8.2//NONSGML v1.0//EN
CALSCALE:GREGORIAN
METHOD:PUBLISH
X-WR-CALNAME:hof-programm - das Veranstaltungsportal für Hochfranken
X-ORIGINAL-URL:https://hof-programm.de
X-WR-CALDESC:Veranstaltungen im hof-programm - das Veranstaltungsportal für Hochfranken
BEGIN:VEVENT
DTSTART;TZID=Europe/Berlin:20230901T180000
DTEND;TZID=Europe/Berlin:20230901T180000
DTSTAMP:20260425T012445
CREATED:20230825T204444Z
LAST-MODIFIED:20230825T204444Z
UID:39265-1693591200-1693591200@hof-programm.de
SUMMARY:Klavier-Abschlusskonzert\, Prof. Christoph Sischka
DESCRIPTION:
URL:https://hof-programm.de/veranstaltung/klavier-abschlusskonzert-prof-christoph-sischka/
LOCATION:Haus Marteau – Internationale Musikbegegnungsstätte\, Lobensteinerstraße 4\, Lichtenberg\, Bayern\, 95192\, Deutschland
GEO:50.38846;11.67207
X-APPLE-STRUCTURED-LOCATION;VALUE=URI;X-ADDRESS=Haus Marteau – Internationale Musikbegegnungsstätte Lobensteinerstraße 4 Lichtenberg Bayern 95192 Deutschland;X-APPLE-RADIUS=500;X-TITLE=Lobensteinerstraße 4:geo:11.67207,50.38846
CATEGORIES:Konzert
END:VEVENT
BEGIN:VEVENT
DTSTART;TZID=Europe/Berlin:20230901T190000
DTEND;TZID=Europe/Berlin:20230901T190000
DTSTAMP:20260425T012445
CREATED:20230825T204444Z
LAST-MODIFIED:20230825T204444Z
UID:39266-1693594800-1693594800@hof-programm.de
SUMMARY:Heimat erhalten\, Vortrag
DESCRIPTION:
URL:https://hof-programm.de/veranstaltung/heimat-erhalten-vortrag/
LOCATION:Gasthaus zur Hulda\, Tiefengrüner Straße 1\, Berg/Tiefengrün\, Bayern\, 95180\, United States
CATEGORIES:Freizeit
END:VEVENT
BEGIN:VEVENT
DTSTART;TZID=Europe/Berlin:20230901T193000
DTEND;TZID=Europe/Berlin:20230901T193000
DTSTAMP:20260425T012445
CREATED:20230726T220624Z
LAST-MODIFIED:20230726T220624Z
UID:39186-1693596600-1693596600@hof-programm.de
SUMMARY:Eine kleine Nachtmusik\, Serenade
DESCRIPTION:
URL:https://hof-programm.de/veranstaltung/eine-kleine-nachtmusik-serenade-20/
LOCATION:König Albert Theater\, Theaterplatz 1\, Bad Elster\, Sachsen\, 08645\, Deutschland
GEO:50.2824609;12.2384102
X-APPLE-STRUCTURED-LOCATION;VALUE=URI;X-ADDRESS=König Albert Theater Theaterplatz 1 Bad Elster Sachsen 08645 Deutschland;X-APPLE-RADIUS=500;X-TITLE=Theaterplatz 1:geo:12.2384102,50.2824609
CATEGORIES:Freizeit
END:VEVENT
BEGIN:VEVENT
DTSTART;TZID=Europe/Berlin:20230901T193000
DTEND;TZID=Europe/Berlin:20230901T193000
DTSTAMP:20260425T012445
CREATED:20230825T204445Z
LAST-MODIFIED:20230825T204445Z
UID:39267-1693596600-1693596600@hof-programm.de
SUMMARY:Eine kleine Nachtmusik\, Serenade
DESCRIPTION:
URL:https://hof-programm.de/veranstaltung/eine-kleine-nachtmusik-serenade-21/
LOCATION:König Albert Theater\, Theaterplatz 1\, Bad Elster\, Sachsen\, 08645\, Deutschland
GEO:50.2824609;12.2384102
X-APPLE-STRUCTURED-LOCATION;VALUE=URI;X-ADDRESS=König Albert Theater Theaterplatz 1 Bad Elster Sachsen 08645 Deutschland;X-APPLE-RADIUS=500;X-TITLE=Theaterplatz 1:geo:12.2384102,50.2824609
CATEGORIES:Freizeit
END:VEVENT
BEGIN:VEVENT
DTSTART;TZID=Europe/Berlin:20230901T200000
DTEND;TZID=Europe/Berlin:20230901T200000
DTSTAMP:20260425T012445
CREATED:20230726T220626Z
LAST-MODIFIED:20230825T204448Z
UID:39187-1693598400-1693598400@hof-programm.de
SUMMARY:The Magic of Queen\, Konzert
DESCRIPTION:
URL:https://hof-programm.de/veranstaltung/the-magic-of-queen-konzert-3/
LOCATION:Luisenburg\, Luisenburg 1\, Wunsiedel\, Bayern\, 95632\, Deutschland
GEO:50.01158;11.99036
X-APPLE-STRUCTURED-LOCATION;VALUE=URI;X-ADDRESS=Luisenburg Luisenburg 1 Wunsiedel Bayern 95632 Deutschland;X-APPLE-RADIUS=500;X-TITLE=Luisenburg 1:geo:11.99036,50.01158
CATEGORIES:Freizeit
END:VEVENT
BEGIN:VEVENT
DTSTART;TZID=Europe/Berlin:20230901T200000
DTEND;TZID=Europe/Berlin:20230901T200000
DTSTAMP:20260425T012445
CREATED:20230825T204447Z
LAST-MODIFIED:20230825T204447Z
UID:39268-1693598400-1693598400@hof-programm.de
SUMMARY:Die Schule der magischen Tiere\, Open-Air-Kino
DESCRIPTION:
URL:https://hof-programm.de/veranstaltung/die-schule-der-magischen-tiere-open-air-kino/
LOCATION:Rathausplatz Schwönwald\, Rathausplatz\, Schönwald\, Bayern\, 95173\, Deutschland
CATEGORIES:Freizeit
END:VEVENT
BEGIN:VEVENT
DTSTART;TZID=Europe/Berlin:20230901T200000
DTEND;TZID=Europe/Berlin:20230901T200000
DTSTAMP:20260425T012445
CREATED:20230825T204448Z
LAST-MODIFIED:20230825T204448Z
UID:39270-1693598400-1693598400@hof-programm.de
SUMMARY:Wulli & Sonja\, Höhlenkonzert
DESCRIPTION:
URL:https://hof-programm.de/veranstaltung/wulli-sonja-hoehlenkonzert/
LOCATION:Burg Rabenstein\, Rabenstein 33\, Ahorntal\, Bayern\, 95491\, Deutschland
GEO:49.822758;11.370459
X-APPLE-STRUCTURED-LOCATION;VALUE=URI;X-ADDRESS=Burg Rabenstein Rabenstein 33 Ahorntal Bayern 95491 Deutschland;X-APPLE-RADIUS=500;X-TITLE=Rabenstein 33:geo:11.370459,49.822758
CATEGORIES:Freizeit
END:VEVENT
END:VCALENDAR