BEGIN:VCALENDAR
VERSION:2.0
PRODID:-//hof-programm - das Veranstaltungsportal für Hochfranken - ECPv4.8.2//NONSGML v1.0//EN
CALSCALE:GREGORIAN
METHOD:PUBLISH
X-WR-CALNAME:hof-programm - das Veranstaltungsportal für Hochfranken
X-ORIGINAL-URL:https://hof-programm.de
X-WR-CALDESC:Veranstaltungen im hof-programm - das Veranstaltungsportal für Hochfranken
BEGIN:VEVENT
DTSTART;TZID=Europe/Berlin:20230908T064500
DTEND;TZID=Europe/Berlin:20230908T064500
DTSTAMP:20260422T063716
CREATED:20230825T204547Z
LAST-MODIFIED:20230825T204547Z
UID:39320-1694155500-1694155500@hof-programm.de
SUMMARY:Zeitenreise: Klima & Gesellschaft\, Exkursion
DESCRIPTION:
URL:https://hof-programm.de/veranstaltung/zeitenreise-klima-gesellschaft-exkursion/
LOCATION:Königliches Kurhaus\, Badstraße 25\, Bad Elster\, Sachsen\, 08645\, Deutschland
GEO:50.28318;12.23741
X-APPLE-STRUCTURED-LOCATION;VALUE=URI;X-ADDRESS=Königliches Kurhaus Badstraße 25 Bad Elster Sachsen 08645 Deutschland;X-APPLE-RADIUS=500;X-TITLE=Badstraße 25:geo:12.23741,50.28318
CATEGORIES:Freizeit
END:VEVENT
BEGIN:VEVENT
DTSTART;TZID=Europe/Berlin:20230908T100000
DTEND;TZID=Europe/Berlin:20230908T100000
DTSTAMP:20260422T063716
CREATED:20230825T204548Z
LAST-MODIFIED:20230825T204548Z
UID:39321-1694167200-1694167200@hof-programm.de
SUMMARY:Tough Hunter\, Hindernislauf mit Hunden
DESCRIPTION:
URL:https://hof-programm.de/veranstaltung/tough-hunter-hindernislauf-mit-hunden-14/
LOCATION:Wagenthal\, Wagenthal 1\, Warmensteinach\, Bayern\, 95485\, Deutschland
GEO:49.99254;11.7987845
X-APPLE-STRUCTURED-LOCATION;VALUE=URI;X-ADDRESS=Wagenthal Wagenthal 1 Warmensteinach Bayern 95485 Deutschland;X-APPLE-RADIUS=500;X-TITLE=Wagenthal 1:geo:11.7987845,49.99254
CATEGORIES:Freizeit
END:VEVENT
BEGIN:VEVENT
DTSTART;TZID=Europe/Berlin:20230908T113000
DTEND;TZID=Europe/Berlin:20230908T113000
DTSTAMP:20260422T063716
CREATED:20230825T204550Z
LAST-MODIFIED:20230825T204550Z
UID:39322-1694172600-1694172600@hof-programm.de
SUMMARY:Festival Mediaval\, Mittelalter-Event
DESCRIPTION:
URL:https://hof-programm.de/veranstaltung/festival-mediaval-mittelalter-event-17/
LOCATION:Goldberg\, Wunsiedler Straße 23\, Selb\, Bayern\, 95100\, Deutschland
GEO:50.165772;12.1280143
X-APPLE-STRUCTURED-LOCATION;VALUE=URI;X-ADDRESS=Goldberg Wunsiedler Straße 23 Selb Bayern 95100 Deutschland;X-APPLE-RADIUS=500;X-TITLE=Wunsiedler Straße 23:geo:12.1280143,50.165772
CATEGORIES:Freizeit
END:VEVENT
BEGIN:VEVENT
DTSTART;TZID=Europe/Berlin:20230908T160000
DTEND;TZID=Europe/Berlin:20230908T160000
DTSTAMP:20260422T063716
CREATED:20230825T204552Z
LAST-MODIFIED:20230825T204552Z
UID:39323-1694188800-1694188800@hof-programm.de
SUMMARY:Bayern 3 Pop-up Festival
DESCRIPTION:
URL:https://hof-programm.de/veranstaltung/bayern-3-pop-up-festival/
LOCATION:Angerplatz\, Kreuzung Leopoldstraße/Ottostraße\, Marktredwitz\, Bayern\, 95615\, Deutschland
GEO:49.999961;12.0856423
X-APPLE-STRUCTURED-LOCATION;VALUE=URI;X-ADDRESS=Angerplatz Kreuzung Leopoldstraße/Ottostraße Marktredwitz Bayern 95615 Deutschland;X-APPLE-RADIUS=500;X-TITLE=Kreuzung Leopoldstraße/Ottostraße:geo:12.0856423,49.999961
CATEGORIES:Freizeit
END:VEVENT
BEGIN:VEVENT
DTSTART;TZID=Europe/Berlin:20230908T170000
DTEND;TZID=Europe/Berlin:20230908T170000
DTSTAMP:20260422T063716
CREATED:20230825T204553Z
LAST-MODIFIED:20230825T204553Z
UID:39324-1694192400-1694192400@hof-programm.de
SUMMARY:Kulturtage
DESCRIPTION:
URL:https://hof-programm.de/veranstaltung/kulturtage/
LOCATION:Innenstadt\, Innenstadt\, Rehau\, Bayern\, 95111\, Deutschland
GEO:50.248611;12.035643
X-APPLE-STRUCTURED-LOCATION;VALUE=URI;X-ADDRESS=Innenstadt Innenstadt Rehau Bayern 95111 Deutschland;X-APPLE-RADIUS=500;X-TITLE=Innenstadt:geo:12.035643,50.248611
CATEGORIES:Freizeit
END:VEVENT
BEGIN:VEVENT
DTSTART;TZID=Europe/Berlin:20230908T170000
DTEND;TZID=Europe/Berlin:20230908T170000
DTSTAMP:20260422T063716
CREATED:20230825T204554Z
LAST-MODIFIED:20230825T204554Z
UID:39325-1694192400-1694192400@hof-programm.de
SUMMARY:Wunstock Festival
DESCRIPTION:
URL:https://hof-programm.de/veranstaltung/wunstock-festival/
LOCATION:Wiesenfestplatz\, Bürgermühlweiherplatz\, Wunsiedel\, Bayern\, 95632\, Deutschland
CATEGORIES:Freizeit
END:VEVENT
BEGIN:VEVENT
DTSTART;TZID=Europe/Berlin:20230908T180000
DTEND;TZID=Europe/Berlin:20230908T180000
DTSTAMP:20260422T063716
CREATED:20230825T204554Z
LAST-MODIFIED:20230825T204554Z
UID:39326-1694196000-1694196000@hof-programm.de
SUMMARY:Klarinette-Abschlusskonzert\, Prof. Andreas Langenbuch
DESCRIPTION:
URL:https://hof-programm.de/veranstaltung/klarinette-abschlusskonzert-prof-andreas-langenbuch/
LOCATION:Haus Marteau – Internationale Musikbegegnungsstätte\, Lobensteinerstraße 4\, Lichtenberg\, Bayern\, 95192\, Deutschland
GEO:50.38846;11.67207
X-APPLE-STRUCTURED-LOCATION;VALUE=URI;X-ADDRESS=Haus Marteau – Internationale Musikbegegnungsstätte Lobensteinerstraße 4 Lichtenberg Bayern 95192 Deutschland;X-APPLE-RADIUS=500;X-TITLE=Lobensteinerstraße 4:geo:11.67207,50.38846
CATEGORIES:Konzert
END:VEVENT
BEGIN:VEVENT
DTSTART;TZID=Europe/Berlin:20230908T180000
DTEND;TZID=Europe/Berlin:20230908T180000
DTSTAMP:20260422T063716
CREATED:20230825T204555Z
LAST-MODIFIED:20230825T204555Z
UID:39327-1694196000-1694196000@hof-programm.de
SUMMARY:Oceanic Magic Sound Journey\, SoleMove
DESCRIPTION:
URL:https://hof-programm.de/veranstaltung/oceanic-magic-sound-journey-solemove/
LOCATION:Soletherme\, Badstraße 6\, Bad Elster\, Sachsen\, 08645\, United States
CATEGORIES:Freizeit
END:VEVENT
BEGIN:VEVENT
DTSTART;TZID=Europe/Berlin:20230908T180000
DTEND;TZID=Europe/Berlin:20230908T180000
DTSTAMP:20260422T063716
CREATED:20230825T204557Z
LAST-MODIFIED:20230825T204557Z
UID:39328-1694196000-1694196000@hof-programm.de
SUMMARY:Schwarzenbacher Ausdauertage\, Nudelparty
DESCRIPTION:
URL:https://hof-programm.de/veranstaltung/schwarzenbacher-ausdauertage-nudelparty-3/
LOCATION:Turnerheim\, Richard-Wagner-Str. 18\, Schwarzenbach/Saale\, Bayern\, 95126\, Deutschland
GEO:50.21993;11.94736
X-APPLE-STRUCTURED-LOCATION;VALUE=URI;X-ADDRESS=Turnerheim Richard-Wagner-Str. 18 Schwarzenbach/Saale Bayern 95126 Deutschland;X-APPLE-RADIUS=500;X-TITLE=Richard-Wagner-Str. 18:geo:11.94736,50.21993
CATEGORIES:Freizeit
END:VEVENT
BEGIN:VEVENT
DTSTART;TZID=Europe/Berlin:20230908T180000
DTEND;TZID=Europe/Berlin:20230908T180000
DTSTAMP:20260422T063716
CREATED:20230825T204558Z
LAST-MODIFIED:20230825T204558Z
UID:39329-1694196000-1694196000@hof-programm.de
SUMMARY:Sophie at Night\, Höhlenevent
DESCRIPTION:
URL:https://hof-programm.de/veranstaltung/sophie-at-night-hoehlenevent-97/
LOCATION:Burg Rabenstein\, Rabenstein 33\, Ahorntal\, Bayern\, 95491\, Deutschland
GEO:49.822758;11.370459
X-APPLE-STRUCTURED-LOCATION;VALUE=URI;X-ADDRESS=Burg Rabenstein Rabenstein 33 Ahorntal Bayern 95491 Deutschland;X-APPLE-RADIUS=500;X-TITLE=Rabenstein 33:geo:11.370459,49.822758
CATEGORIES:Freizeit
END:VEVENT
BEGIN:VEVENT
DTSTART;TZID=Europe/Berlin:20230908T193000
DTEND;TZID=Europe/Berlin:20230908T193000
DTSTAMP:20260422T063716
CREATED:20230825T204559Z
LAST-MODIFIED:20230825T204559Z
UID:39330-1694201400-1694201400@hof-programm.de
SUMMARY:Eröffnungskonzert der Chursächsischen Festspiele
DESCRIPTION:
URL:https://hof-programm.de/veranstaltung/eroeffnungskonzert-der-chursaechsischen-festspiele/
LOCATION:NaturTheater\, Carl-August-Klingner-Straße 7\, Bad Elster\, Sachsen\, 08645\, Deutschland
GEO:50.2862069;12.2437444
X-APPLE-STRUCTURED-LOCATION;VALUE=URI;X-ADDRESS=NaturTheater Carl-August-Klingner-Straße 7 Bad Elster Sachsen 08645 Deutschland;X-APPLE-RADIUS=500;X-TITLE=Carl-August-Klingner-Straße 7:geo:12.2437444,50.2862069
CATEGORIES:Freizeit
END:VEVENT
BEGIN:VEVENT
DTSTART;TZID=Europe/Berlin:20230908T200000
DTEND;TZID=Europe/Berlin:20230908T200000
DTSTAMP:20260422T063716
CREATED:20230825T204600Z
LAST-MODIFIED:20230825T204600Z
UID:39331-1694203200-1694203200@hof-programm.de
SUMMARY:Andy Lang´s Celtic Night\, Konzert
DESCRIPTION:
URL:https://hof-programm.de/veranstaltung/andy-langs-celtic-night-konzert-2/
LOCATION:Neue Kolonnade im Kurpark\, Heinersreuther Weg 5\, Bad Berneck\, Bayern\, 95460\, Deutschland
GEO:50.0506701;11.6773058
X-APPLE-STRUCTURED-LOCATION;VALUE=URI;X-ADDRESS=Neue Kolonnade im Kurpark Heinersreuther Weg 5 Bad Berneck Bayern 95460 Deutschland;X-APPLE-RADIUS=500;X-TITLE=Heinersreuther Weg 5:geo:11.6773058,50.0506701
CATEGORIES:Konzert
END:VEVENT
BEGIN:VEVENT
DTSTART;TZID=Europe/Berlin:20230908T200000
DTEND;TZID=Europe/Berlin:20230908T200000
DTSTAMP:20260422T063716
CREATED:20230825T204601Z
LAST-MODIFIED:20230825T204601Z
UID:39332-1694203200-1694203200@hof-programm.de
SUMMARY:Fredl Fesl Abend mit Gery Gerspitzer
DESCRIPTION:
URL:https://hof-programm.de/veranstaltung/fredl-fesl-abend-mit-gery-gerspitzer-16/
LOCATION:Altes Rathaus Rehau\, Festsaal\, Maxplatz 5\, Rehau\, Bayern\, 95111\, Deutschland
GEO:50.2484315;12.0346641
X-APPLE-STRUCTURED-LOCATION;VALUE=URI;X-ADDRESS=Altes Rathaus Rehau Festsaal Maxplatz 5 Rehau Bayern 95111 Deutschland;X-APPLE-RADIUS=500;X-TITLE=Maxplatz 5:geo:12.0346641,50.2484315
CATEGORIES:Freizeit
END:VEVENT
BEGIN:VEVENT
DTSTART;TZID=Europe/Berlin:20230908T200000
DTEND;TZID=Europe/Berlin:20230908T200000
DTSTAMP:20260422T063716
CREATED:20230825T204604Z
LAST-MODIFIED:20230825T204604Z
UID:39333-1694203200-1694203200@hof-programm.de
SUMMARY:Nachtwächterrundgang
DESCRIPTION:
URL:https://hof-programm.de/veranstaltung/nachtwaechterrundgang-40/
LOCATION:St.Michaelis\, Maxplatz 6\, Hof\, Bayern\, 95028\, Deutschland
GEO:50.3222549;11.9203687
X-APPLE-STRUCTURED-LOCATION;VALUE=URI;X-ADDRESS=St.Michaelis Maxplatz 6 Hof Bayern 95028 Deutschland;X-APPLE-RADIUS=500;X-TITLE=Maxplatz 6:geo:11.9203687,50.3222549
CATEGORIES:Freizeit
END:VEVENT
END:VCALENDAR