BEGIN:VCALENDAR
VERSION:2.0
PRODID:-//hof-programm - das Veranstaltungsportal für Hochfranken - ECPv4.8.2//NONSGML v1.0//EN
CALSCALE:GREGORIAN
METHOD:PUBLISH
X-WR-CALNAME:hof-programm - das Veranstaltungsportal für Hochfranken
X-ORIGINAL-URL:https://hof-programm.de
X-WR-CALDESC:Veranstaltungen im hof-programm - das Veranstaltungsportal für Hochfranken
BEGIN:VEVENT
DTSTART;TZID=Europe/Berlin:20231120T110000
DTEND;TZID=Europe/Berlin:20231120T110000
DTSTAMP:20260422T012028
CREATED:20231026T140813Z
LAST-MODIFIED:20231026T140813Z
UID:40246-1700478000-1700478000@hof-programm.de
SUMMARY:Dt.-Dt. Filmtage\, Biegen und Brechen
DESCRIPTION:
URL:https://hof-programm.de/veranstaltung/dt-dt-filmtage-biegen-und-brechen/
LOCATION:Central-Kino\, Altstadt 8\, Hof\, Bayern\, 95028\, Deutschland
GEO:50.318418;11.9156391
X-APPLE-STRUCTURED-LOCATION;VALUE=URI;X-ADDRESS=Central-Kino Altstadt 8 Hof Bayern 95028 Deutschland;X-APPLE-RADIUS=500;X-TITLE=Altstadt 8:geo:11.9156391,50.318418
END:VEVENT
BEGIN:VEVENT
DTSTART;TZID=Europe/Berlin:20231120T110000
DTEND;TZID=Europe/Berlin:20231120T110000
DTSTAMP:20260422T012028
CREATED:20231026T140814Z
LAST-MODIFIED:20231026T140814Z
UID:40247-1700478000-1700478000@hof-programm.de
SUMMARY:Eröffnung der Hofer Skihütte
DESCRIPTION:
URL:https://hof-programm.de/veranstaltung/eroeffnung-der-hofer-skihuette-3/
LOCATION:Oberer Torplatz\, Oberer Torplatz\, Hof\, Bayern\, 95028\, Deutschland
GEO:50.3188002;11.9166935
X-APPLE-STRUCTURED-LOCATION;VALUE=URI;X-ADDRESS=Oberer Torplatz Oberer Torplatz Hof Bayern 95028 Deutschland;X-APPLE-RADIUS=500;X-TITLE=Oberer Torplatz:geo:11.9166935,50.3188002
END:VEVENT
BEGIN:VEVENT
DTSTART;TZID=Europe/Berlin:20231120T111000
DTEND;TZID=Europe/Berlin:20231120T111000
DTSTAMP:20260422T012028
CREATED:20231026T140814Z
LAST-MODIFIED:20231026T140814Z
UID:40248-1700478600-1700478600@hof-programm.de
SUMMARY:Dt.-Dt. Filmtage\, Schlimmer als Knast
DESCRIPTION:
URL:https://hof-programm.de/veranstaltung/dt-dt-filmtage-schlimmer-als-knast/
LOCATION:Central-Kino\, Altstadt 8\, Hof\, Bayern\, 95028\, Deutschland
GEO:50.318418;11.9156391
X-APPLE-STRUCTURED-LOCATION;VALUE=URI;X-ADDRESS=Central-Kino Altstadt 8 Hof Bayern 95028 Deutschland;X-APPLE-RADIUS=500;X-TITLE=Altstadt 8:geo:11.9156391,50.318418
END:VEVENT
BEGIN:VEVENT
DTSTART;TZID=Europe/Berlin:20231120T150000
DTEND;TZID=Europe/Berlin:20231120T150000
DTSTAMP:20260422T012028
CREATED:20231026T140815Z
LAST-MODIFIED:20231026T140815Z
UID:40249-1700492400-1700492400@hof-programm.de
SUMMARY:Dt.-Dt. Filmtage\, Schlimmer als Knast
DESCRIPTION:
URL:https://hof-programm.de/veranstaltung/dt-dt-filmtage-schlimmer-als-knast-2/
LOCATION:Capitol-Kino\, Bahnhofstraße 33\, Plauen\, Bayern\, 08523\, Deutschland
END:VEVENT
BEGIN:VEVENT
DTSTART;TZID=Europe/Berlin:20231120T170000
DTEND;TZID=Europe/Berlin:20231120T170000
DTSTAMP:20260422T012028
CREATED:20231026T140816Z
LAST-MODIFIED:20231026T140816Z
UID:40250-1700499600-1700499600@hof-programm.de
SUMMARY:Dt.-Dt. Filmtage\, Wir wollen freie Menschen sein\, Cancrin
DESCRIPTION:
URL:https://hof-programm.de/veranstaltung/dt-dt-filmtage-wir-wollen-freie-menschen-sein-cancrin/
LOCATION:Central-Kino\, Altstadt 8\, Hof\, Bayern\, 95028\, Deutschland
GEO:50.318418;11.9156391
X-APPLE-STRUCTURED-LOCATION;VALUE=URI;X-ADDRESS=Central-Kino Altstadt 8 Hof Bayern 95028 Deutschland;X-APPLE-RADIUS=500;X-TITLE=Altstadt 8:geo:11.9156391,50.318418
END:VEVENT
BEGIN:VEVENT
DTSTART;TZID=Europe/Berlin:20231120T170000
DTEND;TZID=Europe/Berlin:20231120T170000
DTSTAMP:20260422T012028
CREATED:20231026T140820Z
LAST-MODIFIED:20231026T140820Z
UID:40251-1700499600-1700499600@hof-programm.de
SUMMARY:Mirco Schön\, Gut gelaunter Gast
DESCRIPTION:
URL:https://hof-programm.de/veranstaltung/mirco-schoen-gut-gelaunter-gast/
LOCATION:extra-radio\, Kreuzsteinstraße 2-6\, Hof\, Bayern\, 95028
CATEGORIES:Freizeit
END:VEVENT
BEGIN:VEVENT
DTSTART;TZID=Europe/Berlin:20231120T190000
DTEND;TZID=Europe/Berlin:20231120T190000
DTSTAMP:20260422T012028
CREATED:20231026T140821Z
LAST-MODIFIED:20231026T140821Z
UID:40252-1700506800-1700506800@hof-programm.de
SUMMARY:Salsa Tanz-Workshop
DESCRIPTION:
URL:https://hof-programm.de/veranstaltung/salsa-tanz-workshop-3/
LOCATION:Saal über Denns Biomarkt\, Wunsiedler Straße 7\, Hof\, Bayern\, 95032\, Deutschland
CATEGORIES:Freizeit
END:VEVENT
BEGIN:VEVENT
DTSTART;TZID=Europe/Berlin:20231120T193000
DTEND;TZID=Europe/Berlin:20231120T193000
DTSTAMP:20260422T012028
CREATED:20231026T140822Z
LAST-MODIFIED:20231026T140822Z
UID:40253-1700508600-1700508600@hof-programm.de
SUMMARY:August von Hardenberg\, Vortrag
DESCRIPTION:
URL:https://hof-programm.de/veranstaltung/august-von-hardenberg-vortrag/
LOCATION:VHS Hofer Land\, Ludwigstraße 7\, Hof\, Bayern\, 95028\, Deutschland
CATEGORIES:Konzert
END:VEVENT
BEGIN:VEVENT
DTSTART;TZID=Europe/Berlin:20231120T193000
DTEND;TZID=Europe/Berlin:20231120T193000
DTSTAMP:20260422T012028
CREATED:20231026T140823Z
LAST-MODIFIED:20231026T140823Z
UID:40254-1700508600-1700508600@hof-programm.de
SUMMARY:Dt.-Dt. Filmtage\, Wenn Mutti früh zur Arbeit geht
DESCRIPTION:
URL:https://hof-programm.de/veranstaltung/dt-dt-filmtage-wenn-mutti-frueh-zur-arbeit-geht/
LOCATION:Central-Kino\, Altstadt 8\, Hof\, Bayern\, 95028\, Deutschland
GEO:50.318418;11.9156391
X-APPLE-STRUCTURED-LOCATION;VALUE=URI;X-ADDRESS=Central-Kino Altstadt 8 Hof Bayern 95028 Deutschland;X-APPLE-RADIUS=500;X-TITLE=Altstadt 8:geo:11.9156391,50.318418
CATEGORIES:Freizeit
END:VEVENT
END:VCALENDAR