BEGIN:VCALENDAR
VERSION:2.0
PRODID:-//hof-programm - das Veranstaltungsportal für Hochfranken - ECPv4.8.2//NONSGML v1.0//EN
CALSCALE:GREGORIAN
METHOD:PUBLISH
X-WR-CALNAME:hof-programm - das Veranstaltungsportal für Hochfranken
X-ORIGINAL-URL:https://hof-programm.de
X-WR-CALDESC:Veranstaltungen im hof-programm - das Veranstaltungsportal für Hochfranken
BEGIN:VEVENT
DTSTART;TZID=Europe/Berlin:20240628T140000
DTEND;TZID=Europe/Berlin:20240628T140000
DTSTAMP:20260424T230917
CREATED:20240527T191430Z
LAST-MODIFIED:20240627T082342Z
UID:44276-1719583200-1719583200@hof-programm.de
SUMMARY:Rawetzer Schützenfest
DESCRIPTION:
URL:https://hof-programm.de/veranstaltung/rawetzer-schuetzenfest-23/
LOCATION:Angerplatz\, Kreuzung Leopoldstraße/Ottostraße\, Marktredwitz\, Bayern\, 95615\, Deutschland
GEO:49.999961;12.0856423
X-APPLE-STRUCTURED-LOCATION;VALUE=URI;X-ADDRESS=Angerplatz Kreuzung Leopoldstraße/Ottostraße Marktredwitz Bayern 95615 Deutschland;X-APPLE-RADIUS=500;X-TITLE=Kreuzung Leopoldstraße/Ottostraße:geo:12.0856423,49.999961
CATEGORIES:Freizeit
END:VEVENT
BEGIN:VEVENT
DTSTART;TZID=Europe/Berlin:20240628T170000
DTEND;TZID=Europe/Berlin:20240628T170000
DTSTAMP:20260424T230917
CREATED:20240527T191431Z
LAST-MODIFIED:20240627T082343Z
UID:44277-1719594000-1719594000@hof-programm.de
SUMMARY:The Gregorian Voices\, Höhlenkonzert
DESCRIPTION:
URL:https://hof-programm.de/veranstaltung/the-gregorian-voices-hoehlenkonzert-3/
LOCATION:Burg Rabenstein\, Rabenstein 33\, Ahorntal\, Bayern\, 95491\, Deutschland
GEO:49.822758;11.370459
X-APPLE-STRUCTURED-LOCATION;VALUE=URI;X-ADDRESS=Burg Rabenstein Rabenstein 33 Ahorntal Bayern 95491 Deutschland;X-APPLE-RADIUS=500;X-TITLE=Rabenstein 33:geo:11.370459,49.822758
CATEGORIES:Freizeit
END:VEVENT
BEGIN:VEVENT
DTSTART;TZID=Europe/Berlin:20240628T180000
DTEND;TZID=Europe/Berlin:20240628T180000
DTSTAMP:20260424T230917
CREATED:20240527T191432Z
LAST-MODIFIED:20240627T082344Z
UID:44278-1719597600-1719597600@hof-programm.de
SUMMARY:Alles tanzt\, Tanzabend
DESCRIPTION:
URL:https://hof-programm.de/veranstaltung/alles-tanzt-tanzabend/
LOCATION:Theater Hof\, Kulmbacher Straße 5\, Hof\, Bayern\, 95030\, Deutschland
GEO:50.31975;11.90504
X-APPLE-STRUCTURED-LOCATION;VALUE=URI;X-ADDRESS=Theater Hof Kulmbacher Straße 5 Hof Bayern 95030 Deutschland;X-APPLE-RADIUS=500;X-TITLE=Kulmbacher Straße 5:geo:11.90504,50.31975
CATEGORIES:Freizeit
END:VEVENT
BEGIN:VEVENT
DTSTART;TZID=Europe/Berlin:20240628T180000
DTEND;TZID=Europe/Berlin:20240628T180000
DTSTAMP:20260424T230917
CREATED:20240527T191433Z
LAST-MODIFIED:20240627T082345Z
UID:44279-1719597600-1719597600@hof-programm.de
SUMMARY:Tauperlitzer Seefest\, 20 Uhr Echt Stark
DESCRIPTION:
URL:https://hof-programm.de/veranstaltung/tauperlitzer-seefest-20-uhr-echt-stark-2/
LOCATION:Quellitzsee Tauperlitz\, Am Quellitzsee 1\, Döhlau\, Bayern\, 95182\, Deutschland
GEO:50.2936771;11.9647471
X-APPLE-STRUCTURED-LOCATION;VALUE=URI;X-ADDRESS=Quellitzsee Tauperlitz Am Quellitzsee 1 Döhlau Bayern 95182 Deutschland;X-APPLE-RADIUS=500;X-TITLE=Am Quellitzsee 1:geo:11.9647471,50.2936771
CATEGORIES:Freizeit
END:VEVENT
BEGIN:VEVENT
DTSTART;TZID=Europe/Berlin:20240628T190000
DTEND;TZID=Europe/Berlin:20240628T190000
DTSTAMP:20260424T230917
CREATED:20240527T191434Z
LAST-MODIFIED:20240627T082345Z
UID:44280-1719601200-1719601200@hof-programm.de
SUMMARY:Youth Gone Wild Festival
DESCRIPTION:
URL:https://hof-programm.de/veranstaltung/youth-gone-wild-festival/
LOCATION:Jugendtreff\, Bahnhofstraße 2\, Oberkotzau\, Bayern\, 95145\, Deutschland
GEO:50.26518;11.93323
X-APPLE-STRUCTURED-LOCATION;VALUE=URI;X-ADDRESS=Jugendtreff Bahnhofstraße 2 Oberkotzau Bayern 95145 Deutschland;X-APPLE-RADIUS=500;X-TITLE=Bahnhofstraße 2:geo:11.93323,50.26518
CATEGORIES:Freizeit
END:VEVENT
BEGIN:VEVENT
DTSTART;TZID=Europe/Berlin:20240628T193000
DTEND;TZID=Europe/Berlin:20240628T193000
DTSTAMP:20260424T230917
CREATED:20240515T084631Z
LAST-MODIFIED:20240627T090055Z
UID:43965-1719603000-1719603000@hof-programm.de
SUMMARY:Breakin´ Mozart\, Break-Dance-Show
DESCRIPTION:
URL:https://hof-programm.de/veranstaltung/breakin-mozart-break-dance-show/
LOCATION:Rosenthal-Theater\, Hohenberger Straße 9\, Selb\, Bayern\, 95100\, Deutschland
GEO:50.16883;12.13287
X-APPLE-STRUCTURED-LOCATION;VALUE=URI;X-ADDRESS=Rosenthal-Theater Hohenberger Straße 9 Selb Bayern 95100 Deutschland;X-APPLE-RADIUS=500;X-TITLE=Hohenberger Straße 9:geo:12.13287,50.16883
CATEGORIES:Highlight
ATTACH;FMTTYPE=image/jpeg:https://hof-programm.de/wp-content/uploads/2024/05/24_06_Breakin-Mozart-Selb.jpg
END:VEVENT
BEGIN:VEVENT
DTSTART;TZID=Europe/Berlin:20240628T193000
DTEND;TZID=Europe/Berlin:20240628T193000
DTSTAMP:20260424T230917
CREATED:20240527T191436Z
LAST-MODIFIED:20240627T082430Z
UID:44281-1719603000-1719603000@hof-programm.de
SUMMARY:Paris mon amour\, Schauspiel
DESCRIPTION:
URL:https://hof-programm.de/veranstaltung/paris-mon-amour-schauspiel-19/
LOCATION:Theater Hof\, Kulmbacher Straße 5\, Hof\, Bayern\, 95030\, Deutschland
GEO:50.31975;11.90504
X-APPLE-STRUCTURED-LOCATION;VALUE=URI;X-ADDRESS=Theater Hof Kulmbacher Straße 5 Hof Bayern 95030 Deutschland;X-APPLE-RADIUS=500;X-TITLE=Kulmbacher Straße 5:geo:11.90504,50.31975
CATEGORIES:Freizeit
END:VEVENT
BEGIN:VEVENT
DTSTART;TZID=Europe/Berlin:20240628T193000
DTEND;TZID=Europe/Berlin:20240628T193000
DTSTAMP:20260424T230917
CREATED:20240527T191437Z
LAST-MODIFIED:20240627T082431Z
UID:44282-1719603000-1719603000@hof-programm.de
SUMMARY:Plutos\, Theater Hof
DESCRIPTION:
URL:https://hof-programm.de/veranstaltung/plutos-theater-hof-2/
LOCATION:Diakonie Hochfranken – Klostergalerie\, Klostertor 2\, Hof\, Bayern\, 95028\, Deutschland
CATEGORIES:Freizeit
END:VEVENT
BEGIN:VEVENT
DTSTART;TZID=Europe/Berlin:20240628T200000
DTEND;TZID=Europe/Berlin:20240628T200000
DTSTAMP:20260424T230917
CREATED:20240527T191438Z
LAST-MODIFIED:20240627T082431Z
UID:44283-1719604800-1719604800@hof-programm.de
SUMMARY:Alphaville\, Konzert
DESCRIPTION:
URL:https://hof-programm.de/veranstaltung/alphaville-konzert-2/
LOCATION:NaturTheater\, Carl-August-Klingner-Straße 7\, Bad Elster\, Sachsen\, 08645\, Deutschland
GEO:50.2862069;12.2437444
X-APPLE-STRUCTURED-LOCATION;VALUE=URI;X-ADDRESS=NaturTheater Carl-August-Klingner-Straße 7 Bad Elster Sachsen 08645 Deutschland;X-APPLE-RADIUS=500;X-TITLE=Carl-August-Klingner-Straße 7:geo:12.2437444,50.2862069
CATEGORIES:Freizeit
END:VEVENT
BEGIN:VEVENT
DTSTART;TZID=Europe/Berlin:20240628T203000
DTEND;TZID=Europe/Berlin:20240628T203000
DTSTAMP:20260424T230917
CREATED:20240527T191438Z
LAST-MODIFIED:20240627T082431Z
UID:44284-1719606600-1719606600@hof-programm.de
SUMMARY:Hexenjagd\, Drama
DESCRIPTION:
URL:https://hof-programm.de/veranstaltung/hexenjagd-drama-2/
LOCATION:Naturbühne Trebgast\, Am Wehlitzer Berg 15\, Trebgast\, Bayern\, 95367\, Deutschland
GEO:50.06589;11.5466
X-APPLE-STRUCTURED-LOCATION;VALUE=URI;X-ADDRESS=Naturbühne Trebgast Am Wehlitzer Berg 15 Trebgast Bayern 95367 Deutschland;X-APPLE-RADIUS=500;X-TITLE=Am Wehlitzer Berg 15:geo:11.5466,50.06589
CATEGORIES:Freizeit
END:VEVENT
BEGIN:VEVENT
DTSTART;TZID=Europe/Berlin:20240628T203000
DTEND;TZID=Europe/Berlin:20240628T203000
DTSTAMP:20260424T230917
CREATED:20240527T191439Z
LAST-MODIFIED:20240627T082514Z
UID:44285-1719606600-1719606600@hof-programm.de
SUMMARY:Jesus Christ Superstar\, Musical
DESCRIPTION:
URL:https://hof-programm.de/veranstaltung/jesus-christ-superstar-musical-2/
LOCATION:Luisenburg\, Luisenburg 1\, Wunsiedel\, Bayern\, 95632\, Deutschland
GEO:50.01158;11.99036
X-APPLE-STRUCTURED-LOCATION;VALUE=URI;X-ADDRESS=Luisenburg Luisenburg 1 Wunsiedel Bayern 95632 Deutschland;X-APPLE-RADIUS=500;X-TITLE=Luisenburg 1:geo:11.99036,50.01158
CATEGORIES:Freizeit
END:VEVENT
END:VCALENDAR