BEGIN:VCALENDAR
VERSION:2.0
PRODID:-//hof-programm - das Veranstaltungsportal für Hochfranken - ECPv4.8.2//NONSGML v1.0//EN
CALSCALE:GREGORIAN
METHOD:PUBLISH
X-WR-CALNAME:hof-programm - das Veranstaltungsportal für Hochfranken
X-ORIGINAL-URL:https://hof-programm.de
X-WR-CALDESC:Veranstaltungen im hof-programm - das Veranstaltungsportal für Hochfranken
BEGIN:VEVENT
DTSTART;TZID=Europe/Berlin:20240705T133000
DTEND;TZID=Europe/Berlin:20240705T133000
DTSTAMP:20260424T110953
CREATED:20240627T083458Z
LAST-MODIFIED:20240627T083458Z
UID:44545-1720186200-1720186200@hof-programm.de
SUMMARY:Wiesenfest\, 20 Uhr BluesNid
DESCRIPTION:
URL:https://hof-programm.de/veranstaltung/wiesenfest-20-uhr-bluesnid/
LOCATION:TuS Schauenstein\, Hofer Str. 51\, Schauenstein\, Bayern\, 95197\, Deutschland
CATEGORIES:Freizeit
END:VEVENT
BEGIN:VEVENT
DTSTART;TZID=Europe/Berlin:20240705T170000
DTEND;TZID=Europe/Berlin:20240705T170000
DTSTAMP:20260424T110953
CREATED:20240627T083459Z
LAST-MODIFIED:20240627T083459Z
UID:44546-1720198800-1720198800@hof-programm.de
SUMMARY:Bürgerfest
DESCRIPTION:
URL:https://hof-programm.de/veranstaltung/buergerfest-16/
LOCATION:Innenstadt\, Historisches Zentrum Bayreuths\, Bayreuth\, Bayern\, 95444\, Deutschland
CATEGORIES:Freizeit
END:VEVENT
BEGIN:VEVENT
DTSTART;TZID=Europe/Berlin:20240705T173000
DTEND;TZID=Europe/Berlin:20240705T173000
DTSTAMP:20260424T110954
CREATED:20240627T083459Z
LAST-MODIFIED:20240627T083459Z
UID:44547-1720200600-1720200600@hof-programm.de
SUMMARY:Kirchweih Leupoldsdorf\, 21 Uhr Die Draufgänger
DESCRIPTION:
URL:https://hof-programm.de/veranstaltung/kirchweih-leupoldsdorf-21-uhr-die-draufgaenger/
LOCATION:Festplatz\, Waffenhammerweg\, Tröstau\, Bayern\, 95709\, Deutschland
CATEGORIES:Freizeit
END:VEVENT
BEGIN:VEVENT
DTSTART;TZID=Europe/Berlin:20240705T180000
DTEND;TZID=Europe/Berlin:20240705T180000
DTSTAMP:20260424T110954
CREATED:20240627T083500Z
LAST-MODIFIED:20240627T083500Z
UID:44548-1720202400-1720202400@hof-programm.de
SUMMARY:Volks- und Wiesenfest\, 19:00 Wolfsegger
DESCRIPTION:
URL:https://hof-programm.de/veranstaltung/volks-und-wiesenfest-1900-wolfsegger/
LOCATION:Wiesenfestplatz\, Bürgermühlweiherplatz\, Wunsiedel\, Bayern\, 95632\, Deutschland
CATEGORIES:Freizeit
END:VEVENT
BEGIN:VEVENT
DTSTART;TZID=Europe/Berlin:20240705T190000
DTEND;TZID=Europe/Berlin:20240705T190000
DTSTAMP:20260424T110954
CREATED:20240627T083501Z
LAST-MODIFIED:20240627T083501Z
UID:44549-1720206000-1720206000@hof-programm.de
SUMMARY:Konzert der Stiftung für Kultur
DESCRIPTION:
URL:https://hof-programm.de/veranstaltung/konzert-der-stiftung-fuer-kultur/
LOCATION:Christuskirche\, Friedhofstraße 4\, Oberkotzau\, Bayern\, 95145\, Deutschland
CATEGORIES:Freizeit
END:VEVENT
BEGIN:VEVENT
DTSTART;TZID=Europe/Berlin:20240705T193000
DTEND;TZID=Europe/Berlin:20240705T193000
DTSTAMP:20260424T110954
CREATED:20240627T083536Z
LAST-MODIFIED:20240627T083536Z
UID:44550-1720207800-1720207800@hof-programm.de
SUMMARY:Hofer Symphoniker\, Symphoniekonzert
DESCRIPTION:
URL:https://hof-programm.de/veranstaltung/hofer-symphoniker-symphoniekonzert-37/
LOCATION:Freiheitshalle Hof\, Festsaal\, Kulmbacher Straße 4\, Hof\, Bayern\, 95030\, Deutschland
GEO:50.3206;11.90446
X-APPLE-STRUCTURED-LOCATION;VALUE=URI;X-ADDRESS=Freiheitshalle Hof Festsaal Kulmbacher Straße 4 Hof Bayern 95030 Deutschland;X-APPLE-RADIUS=500;X-TITLE=Kulmbacher Straße 4:geo:11.90446,50.3206
CATEGORIES:Freizeit
END:VEVENT
BEGIN:VEVENT
DTSTART;TZID=Europe/Berlin:20240705T200000
DTEND;TZID=Europe/Berlin:20240705T200000
DTSTAMP:20260424T110954
CREATED:20240627T083537Z
LAST-MODIFIED:20240627T083537Z
UID:44551-1720209600-1720209600@hof-programm.de
SUMMARY:Hossa! Best of\, Schlagerabend
DESCRIPTION:
URL:https://hof-programm.de/veranstaltung/hossa-best-of-schlagerabend/
LOCATION:Schiller-Quartier\, Bismarckstraße 31\, Hof\, Bayern\, 95028\, Deutschland
CATEGORIES:Freizeit
END:VEVENT
BEGIN:VEVENT
DTSTART;TZID=Europe/Berlin:20240705T200000
DTEND;TZID=Europe/Berlin:20240705T200000
DTSTAMP:20260424T110954
CREATED:20240627T083539Z
LAST-MODIFIED:20240627T083539Z
UID:44552-1720209600-1720209600@hof-programm.de
SUMMARY:Michelle\, Konzert
DESCRIPTION:
URL:https://hof-programm.de/veranstaltung/michelle-konzert/
LOCATION:NaturTheater\, Carl-August-Klingner-Straße 7\, Bad Elster\, Sachsen\, 08645\, Deutschland
GEO:50.2862069;12.2437444
X-APPLE-STRUCTURED-LOCATION;VALUE=URI;X-ADDRESS=NaturTheater Carl-August-Klingner-Straße 7 Bad Elster Sachsen 08645 Deutschland;X-APPLE-RADIUS=500;X-TITLE=Carl-August-Klingner-Straße 7:geo:12.2437444,50.2862069
CATEGORIES:Freizeit
END:VEVENT
BEGIN:VEVENT
DTSTART;TZID=Europe/Berlin:20240705T200000
DTEND;TZID=Europe/Berlin:20240705T200000
DTSTAMP:20260424T110954
CREATED:20240627T083540Z
LAST-MODIFIED:20240627T083540Z
UID:44553-1720209600-1720209600@hof-programm.de
SUMMARY:Nachtwächterrundgang
DESCRIPTION:
URL:https://hof-programm.de/veranstaltung/nachtwaechterrundgang-50/
LOCATION:St.Michaelis\, Maxplatz 6\, Hof\, Bayern\, 95028\, Deutschland
GEO:50.3222549;11.9203687
X-APPLE-STRUCTURED-LOCATION;VALUE=URI;X-ADDRESS=St.Michaelis Maxplatz 6 Hof Bayern 95028 Deutschland;X-APPLE-RADIUS=500;X-TITLE=Maxplatz 6:geo:11.9203687,50.3222549
CATEGORIES:Freizeit
END:VEVENT
BEGIN:VEVENT
DTSTART;TZID=Europe/Berlin:20240705T200000
DTEND;TZID=Europe/Berlin:20240705T200000
DTSTAMP:20260424T110954
CREATED:20240627T083541Z
LAST-MODIFIED:20240704T075404Z
UID:44554-1720209600-1720209600@hof-programm.de
SUMMARY:Wird Verschoben // The Funkfood\, Konzert
DESCRIPTION:
URL:https://hof-programm.de/veranstaltung/the-funkfood-konzert/
LOCATION:Musikpavillon Theresienstein\, Stadtpark\, Hof\, Bayern\, 95028\, Deutschland
GEO:50.3268744;11.9242467
X-APPLE-STRUCTURED-LOCATION;VALUE=URI;X-ADDRESS=Musikpavillon Theresienstein Stadtpark Hof Bayern 95028 Deutschland;X-APPLE-RADIUS=500;X-TITLE=Stadtpark:geo:11.9242467,50.3268744
CATEGORIES:Freizeit
END:VEVENT
BEGIN:VEVENT
DTSTART;TZID=Europe/Berlin:20240705T203000
DTEND;TZID=Europe/Berlin:20240705T203000
DTSTAMP:20260424T110954
CREATED:20240627T083620Z
LAST-MODIFIED:20240627T083620Z
UID:44555-1720211400-1720211400@hof-programm.de
SUMMARY:Der Watzmann ruft\, Rustical
DESCRIPTION:
URL:https://hof-programm.de/veranstaltung/der-watzmann-ruft-rustical/
LOCATION:Luisenburg\, Luisenburg 1\, Wunsiedel\, Bayern\, 95632\, Deutschland
GEO:50.01158;11.99036
X-APPLE-STRUCTURED-LOCATION;VALUE=URI;X-ADDRESS=Luisenburg Luisenburg 1 Wunsiedel Bayern 95632 Deutschland;X-APPLE-RADIUS=500;X-TITLE=Luisenburg 1:geo:11.99036,50.01158
CATEGORIES:Freizeit
END:VEVENT
BEGIN:VEVENT
DTSTART;TZID=Europe/Berlin:20240705T203000
DTEND;TZID=Europe/Berlin:20240705T203000
DTSTAMP:20260424T110954
CREATED:20240627T083621Z
LAST-MODIFIED:20240627T083621Z
UID:44556-1720211400-1720211400@hof-programm.de
SUMMARY:Die Welle\, Drama\, Premiere
DESCRIPTION:
URL:https://hof-programm.de/veranstaltung/die-welle-drama-premiere/
LOCATION:Naturbühne Trebgast\, Am Wehlitzer Berg 15\, Trebgast\, Bayern\, 95367\, Deutschland
GEO:50.06589;11.5466
X-APPLE-STRUCTURED-LOCATION;VALUE=URI;X-ADDRESS=Naturbühne Trebgast Am Wehlitzer Berg 15 Trebgast Bayern 95367 Deutschland;X-APPLE-RADIUS=500;X-TITLE=Am Wehlitzer Berg 15:geo:11.5466,50.06589
CATEGORIES:Freizeit
END:VEVENT
END:VCALENDAR