BEGIN:VCALENDAR
VERSION:2.0
PRODID:-//hof-programm - das Veranstaltungsportal für Hochfranken - ECPv4.8.2//NONSGML v1.0//EN
CALSCALE:GREGORIAN
METHOD:PUBLISH
X-WR-CALNAME:hof-programm - das Veranstaltungsportal für Hochfranken
X-ORIGINAL-URL:https://hof-programm.de
X-WR-CALDESC:Veranstaltungen im hof-programm - das Veranstaltungsportal für Hochfranken
BEGIN:VEVENT
DTSTART;TZID=Europe/Berlin:20260304T080000
DTEND;TZID=Europe/Berlin:20260304T080000
DTSTAMP:20260422T160952
CREATED:20260226T114254Z
LAST-MODIFIED:20260226T114254Z
UID:54114-1772611200-1772611200@hof-programm.de
SUMMARY:Tatort Franken - Riesenlurche\, Ausstellungseröffnung
DESCRIPTION:
URL:https://hof-programm.de/veranstaltung/tatort-franken-riesenlurche-ausstellungseroeffnung/
LOCATION:Landesamt für Umwelt\, Hans-Högn-Str. 12\, Hof\, Bayern\, 95030\, Deutschland
CATEGORIES:Bildung
END:VEVENT
BEGIN:VEVENT
DTSTART;TZID=Europe/Berlin:20260304T183000
DTEND;TZID=Europe/Berlin:20260304T183000
DTSTAMP:20260422T160952
CREATED:20260226T114255Z
LAST-MODIFIED:20260226T114255Z
UID:54115-1772649000-1772649000@hof-programm.de
SUMMARY:Tatort Franken\, Vortrag
DESCRIPTION:
URL:https://hof-programm.de/veranstaltung/tatort-franken-vortrag/
LOCATION:Landesamt für Umwelt\, Hans-Högn-Str. 12\, Hof\, Bayern\, 95030\, Deutschland
CATEGORIES:Bildung
END:VEVENT
BEGIN:VEVENT
DTSTART;TZID=Europe/Berlin:20260304T190000
DTEND;TZID=Europe/Berlin:20260304T190000
DTSTAMP:20260422T160952
CREATED:20260226T114257Z
LAST-MODIFIED:20260226T114257Z
UID:54116-1772650800-1772650800@hof-programm.de
SUMMARY:Kunst im Technischen Rathaus\, Führung
DESCRIPTION:
URL:https://hof-programm.de/veranstaltung/kunst-im-technischen-rathaus-fuehrung-2/
LOCATION:Rathaus\, Klosterstraße 1\, Hof\, Bayern\, 95028\, Deutschland
GEO:50.3218955;11.9182822
X-APPLE-STRUCTURED-LOCATION;VALUE=URI;X-ADDRESS=Rathaus Klosterstraße 1 Hof Bayern 95028 Deutschland;X-APPLE-RADIUS=500;X-TITLE=Klosterstraße 1:geo:11.9182822,50.3218955
CATEGORIES:Freizeit
END:VEVENT
BEGIN:VEVENT
DTSTART;TZID=Europe/Berlin:20260304T193000
DTEND;TZID=Europe/Berlin:20260304T193000
DTSTAMP:20260422T160952
CREATED:20260226T114258Z
LAST-MODIFIED:20260226T114258Z
UID:54117-1772652600-1772652600@hof-programm.de
SUMMARY:Martin Stadtfeld\, Konzert
DESCRIPTION:
URL:https://hof-programm.de/veranstaltung/martin-stadtfeld-konzert/
LOCATION:König Albert Theater\, Theaterplatz 1\, Bad Elster\, Sachsen\, 08645\, Deutschland
GEO:50.2824609;12.2384102
X-APPLE-STRUCTURED-LOCATION;VALUE=URI;X-ADDRESS=König Albert Theater Theaterplatz 1 Bad Elster Sachsen 08645 Deutschland;X-APPLE-RADIUS=500;X-TITLE=Theaterplatz 1:geo:12.2384102,50.2824609
CATEGORIES:Freizeit
END:VEVENT
BEGIN:VEVENT
DTSTART;TZID=Europe/Berlin:20260304T200000
DTEND;TZID=Europe/Berlin:20260304T200000
DTSTAMP:20260422T160952
CREATED:20260226T114258Z
LAST-MODIFIED:20260226T114258Z
UID:54118-1772654400-1772654400@hof-programm.de
SUMMARY:Scharfrichterführung
DESCRIPTION:
URL:https://hof-programm.de/veranstaltung/scharfrichterfuehrung-48/
LOCATION:Rathausbrunnen\, Klosterstraße 3\, Hof\, Bayern\, 95028\, Deutschland
CATEGORIES:Freizeit
END:VEVENT
END:VCALENDAR