BEGIN:VCALENDAR
VERSION:2.0
PRODID:-//hof-programm - das Veranstaltungsportal für Hochfranken - ECPv4.8.2//NONSGML v1.0//EN
CALSCALE:GREGORIAN
METHOD:PUBLISH
X-WR-CALNAME:hof-programm - das Veranstaltungsportal für Hochfranken
X-ORIGINAL-URL:https://hof-programm.de
X-WR-CALDESC:Veranstaltungen im hof-programm - das Veranstaltungsportal für Hochfranken
BEGIN:VEVENT
DTSTART;TZID=Europe/Berlin:20260212T191100
DTEND;TZID=Europe/Berlin:20260212T191100
DTSTAMP:20260421T133411
CREATED:20260129T115828Z
LAST-MODIFIED:20260129T115828Z
UID:53830-1770923460-1770923460@hof-programm.de
SUMMARY:Altweiber-Fasching
DESCRIPTION:
URL:https://hof-programm.de/veranstaltung/altweiber-fasching-5/
LOCATION:Restaurant Treffpunkt\, Sophienberg 30\, Hof\, Bayern\, 95028\, Deutschland
GEO:50.313529;11.915912
X-APPLE-STRUCTURED-LOCATION;VALUE=URI;X-ADDRESS=Restaurant Treffpunkt Sophienberg 30 Hof Bayern 95028 Deutschland;X-APPLE-RADIUS=500;X-TITLE=Sophienberg 30:geo:11.915912,50.313529
CATEGORIES:Freizeit
END:VEVENT
END:VCALENDAR