BEGIN:VCALENDAR
VERSION:2.0
PRODID:-//hof-programm - das Veranstaltungsportal für Hochfranken - ECPv4.8.2//NONSGML v1.0//EN
CALSCALE:GREGORIAN
METHOD:PUBLISH
X-WR-CALNAME:hof-programm - das Veranstaltungsportal für Hochfranken
X-ORIGINAL-URL:https://hof-programm.de
X-WR-CALDESC:Veranstaltungen im hof-programm - das Veranstaltungsportal für Hochfranken
BEGIN:VEVENT
DTSTART;TZID=Europe/Berlin:20240629T160000
DTEND;TZID=Europe/Berlin:20240629T160000
DTSTAMP:20260424T231207
CREATED:20240527T191450Z
LAST-MODIFIED:20240627T082627Z
UID:44295-1719676800-1719676800@hof-programm.de
SUMMARY:Die Verlorenen Schatten von Nimmerland
DESCRIPTION:
URL:https://hof-programm.de/veranstaltung/die-verlorenen-schatten-von-nimmerland/
LOCATION:Theater Hof\, Studio\, Kulmbacher Straße 5\, Hof\, Bayern\, 95030\, Deutschland
GEO:50.31975;11.90504
X-APPLE-STRUCTURED-LOCATION;VALUE=URI;X-ADDRESS=Theater Hof Studio Kulmbacher Straße 5 Hof Bayern 95030 Deutschland;X-APPLE-RADIUS=500;X-TITLE=Kulmbacher Straße 5:geo:11.90504,50.31975
CATEGORIES:Freizeit
END:VEVENT
END:VCALENDAR