BEGIN:VCALENDAR
VERSION:2.0
PRODID:-//hof-programm - das Veranstaltungsportal für Hochfranken - ECPv4.8.2//NONSGML v1.0//EN
CALSCALE:GREGORIAN
METHOD:PUBLISH
X-WR-CALNAME:hof-programm - das Veranstaltungsportal für Hochfranken
X-ORIGINAL-URL:https://hof-programm.de
X-WR-CALDESC:Veranstaltungen im hof-programm - das Veranstaltungsportal für Hochfranken
BEGIN:VEVENT
DTSTART;TZID=Europe/Berlin:20231118T170000
DTEND;TZID=Europe/Berlin:20231118T170000
DTSTAMP:20260422T001144
CREATED:20231026T140701Z
LAST-MODIFIED:20231026T140701Z
UID:40218-1700326800-1700326800@hof-programm.de
SUMMARY:Dt.-Dt. Filmtage\, Honeckers Jagdrevier
DESCRIPTION:
URL:https://hof-programm.de/veranstaltung/dt-dt-filmtage-honeckers-jagdrevier/
LOCATION:Capitol-Kino\, Bahnhofstraße 33\, Plauen\, Bayern\, 08523\, Deutschland
END:VEVENT
END:VCALENDAR