BEGIN:VCALENDAR
VERSION:2.0
PRODID:-//hof-programm - das Veranstaltungsportal für Hochfranken - ECPv4.8.2//NONSGML v1.0//EN
CALSCALE:GREGORIAN
METHOD:PUBLISH
X-WR-CALNAME:hof-programm - das Veranstaltungsportal für Hochfranken
X-ORIGINAL-URL:https://hof-programm.de
X-WR-CALDESC:Veranstaltungen im hof-programm - das Veranstaltungsportal für Hochfranken
BEGIN:VEVENT
DTSTART;TZID=Europe/Berlin:20231120T170000
DTEND;TZID=Europe/Berlin:20231120T170000
DTSTAMP:20260423T134454
CREATED:20231026T140816Z
LAST-MODIFIED:20231026T140816Z
UID:40250-1700499600-1700499600@hof-programm.de
SUMMARY:Dt.-Dt. Filmtage\, Wir wollen freie Menschen sein\, Cancrin
DESCRIPTION:
URL:https://hof-programm.de/veranstaltung/dt-dt-filmtage-wir-wollen-freie-menschen-sein-cancrin/
LOCATION:Central-Kino\, Altstadt 8\, Hof\, Bayern\, 95028\, Deutschland
GEO:50.318418;11.9156391
X-APPLE-STRUCTURED-LOCATION;VALUE=URI;X-ADDRESS=Central-Kino Altstadt 8 Hof Bayern 95028 Deutschland;X-APPLE-RADIUS=500;X-TITLE=Altstadt 8:geo:11.9156391,50.318418
END:VEVENT
END:VCALENDAR