BEGIN:VCALENDAR
VERSION:2.0
PRODID:-//hof-programm - das Veranstaltungsportal für Hochfranken - ECPv4.8.2//NONSGML v1.0//EN
CALSCALE:GREGORIAN
METHOD:PUBLISH
X-WR-CALNAME:hof-programm - das Veranstaltungsportal für Hochfranken
X-ORIGINAL-URL:https://hof-programm.de
X-WR-CALDESC:Veranstaltungen im hof-programm - das Veranstaltungsportal für Hochfranken
BEGIN:VEVENT
DTSTART;TZID=Europe/Berlin:20260328T140000
DTEND;TZID=Europe/Berlin:20260328T140000
DTSTAMP:20260422T012055
CREATED:20260226T115231Z
LAST-MODIFIED:20260226T115231Z
UID:54391-1774706400-1774706400@hof-programm.de
SUMMARY:Hutzennachmittag
DESCRIPTION:
URL:https://hof-programm.de/veranstaltung/hutzennachmittag-5/
LOCATION:Freilichtmuseum Landwüst\, Rohrbacher Straße 4\, Markneukirchen\, Sachsen\, 08258\, Deutschland
GEO:50.2693598;12.331731
X-APPLE-STRUCTURED-LOCATION;VALUE=URI;X-ADDRESS=Freilichtmuseum Landwüst Rohrbacher Straße 4 Markneukirchen Sachsen 08258 Deutschland;X-APPLE-RADIUS=500;X-TITLE=Rohrbacher Straße 4:geo:12.331731,50.2693598
END:VEVENT
END:VCALENDAR