BEGIN:VCALENDAR
VERSION:2.0
PRODID:-//hof-programm - das Veranstaltungsportal für Hochfranken - ECPv4.8.2//NONSGML v1.0//EN
CALSCALE:GREGORIAN
METHOD:PUBLISH
X-WR-CALNAME:hof-programm - das Veranstaltungsportal für Hochfranken
X-ORIGINAL-URL:https://hof-programm.de
X-WR-CALDESC:Veranstaltungen im hof-programm - das Veranstaltungsportal für Hochfranken
BEGIN:VEVENT
DTSTART;TZID=Europe/Berlin:20250613T180000
DTEND;TZID=Europe/Berlin:20250613T180000
DTSTAMP:20260421T184028
CREATED:20250528T120354Z
LAST-MODIFIED:20250528T120354Z
UID:50140-1749837600-1749837600@hof-programm.de
SUMMARY:Länder\, Menschen\, Farben\, Vernissage
DESCRIPTION:
URL:https://hof-programm.de/veranstaltung/laender-menschen-farben-vernissage/
LOCATION:Königliches Kurhaus\, Badstraße 25\, Bad Elster\, Sachsen\, 08645\, Deutschland
GEO:50.28318;12.23741
X-APPLE-STRUCTURED-LOCATION;VALUE=URI;X-ADDRESS=Königliches Kurhaus Badstraße 25 Bad Elster Sachsen 08645 Deutschland;X-APPLE-RADIUS=500;X-TITLE=Badstraße 25:geo:12.23741,50.28318
CATEGORIES:Freizeit
END:VEVENT
END:VCALENDAR