BEGIN:VCALENDAR
VERSION:2.0
PRODID:-//hof-programm - das Veranstaltungsportal für Hochfranken - ECPv4.8.2//NONSGML v1.0//EN
CALSCALE:GREGORIAN
METHOD:PUBLISH
X-WR-CALNAME:hof-programm - das Veranstaltungsportal für Hochfranken
X-ORIGINAL-URL:https://hof-programm.de
X-WR-CALDESC:Veranstaltungen im hof-programm - das Veranstaltungsportal für Hochfranken
BEGIN:VEVENT
DTSTART;TZID=Europe/Berlin:20230529T100000
DTEND;TZID=Europe/Berlin:20230529T100000
DTSTAMP:20260423T143842
CREATED:20230427T110450Z
LAST-MODIFIED:20230525T065916Z
UID:36988-1685354400-1685354400@hof-programm.de
SUMMARY:Lorenzreuther Brückenfest\, Kinderprogramm
DESCRIPTION:
URL:https://hof-programm.de/veranstaltung/lorenzreuther-brueckenfest-kinderprogramm/
LOCATION:Festplatz\, Brückenstraße\, Marktredwitz/Lorenzreuth\, Bayern\, 95615\, Deutschland
GEO:50.0181547;12.1022408
X-APPLE-STRUCTURED-LOCATION;VALUE=URI;X-ADDRESS=Festplatz Brückenstraße Marktredwitz/Lorenzreuth Bayern 95615 Deutschland;X-APPLE-RADIUS=500;X-TITLE=Brückenstraße:geo:12.1022408,50.0181547
CATEGORIES:Freizeit
END:VEVENT
END:VCALENDAR