BEGIN:VCALENDAR
VERSION:2.0
PRODID:-//hof-programm - das Veranstaltungsportal für Hochfranken - ECPv4.8.2//NONSGML v1.0//EN
CALSCALE:GREGORIAN
METHOD:PUBLISH
X-WR-CALNAME:hof-programm - das Veranstaltungsportal für Hochfranken
X-ORIGINAL-URL:https://hof-programm.de
X-WR-CALDESC:Veranstaltungen im hof-programm - das Veranstaltungsportal für Hochfranken
BEGIN:VEVENT
DTSTART;TZID=Europe/Berlin:20240711T193000
DTEND;TZID=Europe/Berlin:20240711T193000
DTSTAMP:20260421T185027
CREATED:20240627T084605Z
LAST-MODIFIED:20240627T084605Z
UID:44660-1720726200-1720726200@hof-programm.de
SUMMARY:Musikakademie Lodz\, Konzert
DESCRIPTION:
URL:https://hof-programm.de/veranstaltung/musikakademie-lodz-konzert/
LOCATION:Kammermusiksaal Steingraeber Haus\, Steingraeberpassage 1\, Bayreuth\, Bayern\, 95444\, Deutschland
END:VEVENT
END:VCALENDAR