BEGIN:VCALENDAR
VERSION:2.0
PRODID:-//hof-programm - das Veranstaltungsportal für Hochfranken - ECPv4.8.2//NONSGML v1.0//EN
CALSCALE:GREGORIAN
METHOD:PUBLISH
X-WR-CALNAME:hof-programm - das Veranstaltungsportal für Hochfranken
X-ORIGINAL-URL:https://hof-programm.de
X-WR-CALDESC:Veranstaltungen im hof-programm - das Veranstaltungsportal für Hochfranken
BEGIN:VEVENT
DTSTART;TZID=Europe/Berlin:20260314T150000
DTEND;TZID=Europe/Berlin:20260314T150000
DTSTAMP:20260420T123156
CREATED:20260226T114508Z
LAST-MODIFIED:20260226T114508Z
UID:54214-1773500400-1773500400@hof-programm.de
SUMMARY:SpVgg Bayern Hof - SV Fortuna Regensburg\, Bayernl. Nord
DESCRIPTION:
URL:https://hof-programm.de/veranstaltung/spvgg-bayern-hof-sv-fortuna-regensburg-bayernl-nord-2/
LOCATION:Städtisches Stadion Grüne Au\, Oelsnitzer Straße 101\, Hof\, Bayern\, 95028\, Deutschland
GEO:50.31433;11.93133
X-APPLE-STRUCTURED-LOCATION;VALUE=URI;X-ADDRESS=Städtisches Stadion Grüne Au Oelsnitzer Straße 101 Hof Bayern 95028 Deutschland;X-APPLE-RADIUS=500;X-TITLE=Oelsnitzer Straße 101:geo:11.93133,50.31433
CATEGORIES:Freizeit
END:VEVENT
END:VCALENDAR