BEGIN:VCALENDAR
VERSION:2.0
PRODID:-//hof-programm - das Veranstaltungsportal für Hochfranken - ECPv4.8.2//NONSGML v1.0//EN
CALSCALE:GREGORIAN
METHOD:PUBLISH
X-WR-CALNAME:hof-programm - das Veranstaltungsportal für Hochfranken
X-ORIGINAL-URL:https://hof-programm.de
X-WR-CALDESC:Veranstaltungen im hof-programm - das Veranstaltungsportal für Hochfranken
BEGIN:VEVENT
DTSTART;TZID=Europe/Berlin:20230603T100000
DTEND;TZID=Europe/Berlin:20230603T100000
DTSTAMP:20260423T143813
CREATED:20230427T110530Z
LAST-MODIFIED:20230525T065932Z
UID:37014-1685786400-1685786400@hof-programm.de
SUMMARY:Straßen-Flohmarkt
DESCRIPTION:
URL:https://hof-programm.de/veranstaltung/strassen-flohmarkt-25/
LOCATION:Karolinenstraße\, Innenstadt\, Hof\, Bayern\, 95028\, Deutschland
GEO:50.3177892;11.9154852
X-APPLE-STRUCTURED-LOCATION;VALUE=URI;X-ADDRESS=Karolinenstraße Innenstadt Hof Bayern 95028 Deutschland;X-APPLE-RADIUS=500;X-TITLE=Innenstadt:geo:11.9154852,50.3177892
CATEGORIES:Freizeit
END:VEVENT
END:VCALENDAR