BEGIN:VCALENDAR
VERSION:2.0
PRODID:-//hof-programm - das Veranstaltungsportal für Hochfranken - ECPv4.8.2//NONSGML v1.0//EN
CALSCALE:GREGORIAN
METHOD:PUBLISH
X-WR-CALNAME:hof-programm - das Veranstaltungsportal für Hochfranken
X-ORIGINAL-URL:https://hof-programm.de
X-WR-CALDESC:Veranstaltungen im hof-programm - das Veranstaltungsportal für Hochfranken
BEGIN:VEVENT
DTSTART;TZID=Europe/Berlin:20221004T193000
DTEND;TZID=Europe/Berlin:20221004T193000
DTSTAMP:20260421T170704
CREATED:20220927T200811Z
LAST-MODIFIED:20220927T203404Z
UID:33122-1664911800-1664911800@hof-programm.de
SUMMARY:Volkmar Funke\, Theaterclub
DESCRIPTION:
URL:https://hof-programm.de/veranstaltung/volkmar-funke-theaterclub/
LOCATION:Theatercafé\, Badstraße 21\, Bad Elster\, Bayern\, 08645\, Deutschland
GEO:50.2826372;12.2391153
X-APPLE-STRUCTURED-LOCATION;VALUE=URI;X-ADDRESS=Theatercafé Badstraße 21 Bad Elster Bayern 08645 Deutschland;X-APPLE-RADIUS=500;X-TITLE=Badstraße 21:geo:12.2391153,50.2826372
CATEGORIES:Freizeit
END:VEVENT
END:VCALENDAR